BEGIN:VCALENDAR
VERSION:2.0
PRODID:-//Co-Guest House - ECPv6.15.20//NONSGML v1.0//EN
CALSCALE:GREGORIAN
METHOD:PUBLISH
X-WR-CALNAME:Co-Guest House
X-ORIGINAL-URL:https://co-guesthouse.be
X-WR-CALDESC:Évènements pour Co-Guest House
REFRESH-INTERVAL;VALUE=DURATION:PT1H
X-Robots-Tag:noindex
X-PUBLISHED-TTL:PT1H
BEGIN:VTIMEZONE
TZID:Europe/Brussels
BEGIN:DAYLIGHT
TZOFFSETFROM:+0100
TZOFFSETTO:+0200
TZNAME:CEST
DTSTART:20220327T010000
END:DAYLIGHT
BEGIN:STANDARD
TZOFFSETFROM:+0200
TZOFFSETTO:+0100
TZNAME:CET
DTSTART:20221030T010000
END:STANDARD
BEGIN:DAYLIGHT
TZOFFSETFROM:+0100
TZOFFSETTO:+0200
TZNAME:CEST
DTSTART:20230326T010000
END:DAYLIGHT
BEGIN:STANDARD
TZOFFSETFROM:+0200
TZOFFSETTO:+0100
TZNAME:CET
DTSTART:20231029T010000
END:STANDARD
BEGIN:DAYLIGHT
TZOFFSETFROM:+0100
TZOFFSETTO:+0200
TZNAME:CEST
DTSTART:20240331T010000
END:DAYLIGHT
BEGIN:STANDARD
TZOFFSETFROM:+0200
TZOFFSETTO:+0100
TZNAME:CET
DTSTART:20241027T010000
END:STANDARD
END:VTIMEZONE
BEGIN:VEVENT
DTSTART;TZID=Europe/Brussels:20230404T184500
DTEND;TZID=Europe/Brussels:20230404T211500
DTSTAMP:20260425T025335
CREATED:20230208T160523Z
LAST-MODIFIED:20230224T162737Z
UID:6276-1680633900-1680642900@co-guesthouse.be
SUMMARY:Atelier Cucina italiana: Boulettes par la team Romanina
DESCRIPTION:Vous avez toujours rêvé de connaître les secrets de la cuisine italienne? Rejoignez chaque mois l’un des ateliers animés par nos 2 professionnelles\, Marine et Romane.\n\n\n\nSeul(e)\, entre ami(e)s ou en couple\, prenez le temps de vous octroyer un moment unique et convivial autour de cette fabuleuse gastronomie!  \n\n\n\nVenez cuisiner vos propres boulettes farcies aux œufs et tagliatelles\, tout en dégustant de délicieux antipasti. \n\n\n\nNotez que vous n’avez besoin de rien apporter pour l’atelier\, tout le matériel est prévu!  \n\n\n\nEt vous repartez avec la recette et le plat prêt à déguster en famille. \n\n\n\nNe tardez pas à vous inscrire par mail à lesateliersdiromanina@gmail.com car les places sont limitées. \n\n\n\nPlus d’infos? Voir le site web des ateliers di Romanina.
URL:https://co-guesthouse.be/evenement/atelier-cucina-italiana-4-boulettes-romanina/
LOCATION:Co-GuestHouse\, Boulevard Albert Elisabeth 11 - 7000 Mons
CATEGORIES:Plaisirs de la table
ATTACH;FMTTYPE=image/png:https://co-guesthouse.be/2022/wp-content/uploads/2023/02/boulette.png
END:VEVENT
BEGIN:VEVENT
DTSTART;TZID=Europe/Brussels:20230417T184500
DTEND;TZID=Europe/Brussels:20230417T211500
DTSTAMP:20260425T025335
CREATED:20230209T094144Z
LAST-MODIFIED:20230224T162746Z
UID:6281-1681757100-1681766100@co-guesthouse.be
SUMMARY:Atelier Cucina italiana: Gnocchi par la team Romanina
DESCRIPTION:Vous avez toujours rêvé de connaître les secrets de la cuisine italienne? Rejoignez chaque mois l’un des ateliers animés par nos 2 professionnelles\, Marine et Romane.\n\n\n\nSeul(e)\, entre ami(e)s ou en couple\, prenez le temps de vous octroyer un moment unique et convivial autour de cette fabuleuse gastronomie!  \n\n\n\nVenez cuisiner vos propres gnocchi gratinés aux épinards\, burrata et tomates séchées\, tout en dégustant de délicieux antipasti. \n\n\n\nNotez que vous n’avez besoin de rien apporter pour l’atelier\, tout le matériel est prévu!  \n\n\n\nEt vous repartez avec la recette et le plat prêt à déguster en famille. \n\n\n\nNe tardez pas à vous inscrire par mail à lesateliersdiromanina@gmail.com car les places sont limitées. \n\n\n\nPlus d’infos? Voir le site web des ateliers di Romanina.
URL:https://co-guesthouse.be/evenement/atelier-cucina-italiana-5-gnocchi-romanina/
LOCATION:Co-GuestHouse\, Boulevard Albert Elisabeth 11 - 7000 Mons
CATEGORIES:Plaisirs de la table
ATTACH;FMTTYPE=image/png:https://co-guesthouse.be/2022/wp-content/uploads/2023/02/gnocchi.png
END:VEVENT
END:VCALENDAR