BEGIN:VCALENDAR
VERSION:2.0
PRODID:-//Co-Guest House - ECPv6.15.20//NONSGML v1.0//EN
CALSCALE:GREGORIAN
METHOD:PUBLISH
X-ORIGINAL-URL:https://co-guesthouse.be
X-WR-CALDESC:Évènements pour Co-Guest House
REFRESH-INTERVAL;VALUE=DURATION:PT1H
X-Robots-Tag:noindex
X-PUBLISHED-TTL:PT1H
BEGIN:VTIMEZONE
TZID:Europe/Brussels
BEGIN:DAYLIGHT
TZOFFSETFROM:+0100
TZOFFSETTO:+0200
TZNAME:CEST
DTSTART:20220327T010000
END:DAYLIGHT
BEGIN:STANDARD
TZOFFSETFROM:+0200
TZOFFSETTO:+0100
TZNAME:CET
DTSTART:20221030T010000
END:STANDARD
BEGIN:DAYLIGHT
TZOFFSETFROM:+0100
TZOFFSETTO:+0200
TZNAME:CEST
DTSTART:20230326T010000
END:DAYLIGHT
BEGIN:STANDARD
TZOFFSETFROM:+0200
TZOFFSETTO:+0100
TZNAME:CET
DTSTART:20231029T010000
END:STANDARD
BEGIN:DAYLIGHT
TZOFFSETFROM:+0100
TZOFFSETTO:+0200
TZNAME:CEST
DTSTART:20240331T010000
END:DAYLIGHT
BEGIN:STANDARD
TZOFFSETFROM:+0200
TZOFFSETTO:+0100
TZNAME:CET
DTSTART:20241027T010000
END:STANDARD
END:VTIMEZONE
BEGIN:VEVENT
DTSTART;TZID=Europe/Brussels:20231107T190000
DTEND;TZID=Europe/Brussels:20231107T220000
DTSTAMP:20260424T165114
CREATED:20230208T081000Z
LAST-MODIFIED:20231105T203524Z
UID:6176-1699383600-1699394400@co-guesthouse.be
SUMMARY:Atelier culinaire: cuisinez les courges avec Marion Willems
DESCRIPTION:Citrouilles\, potirons\, potimarrons\, pâtissons\, courgettes : les espèces et les variétés de courges sont innombrables.  \n\n\n\nTout aussi innombrables sont les façons de les cuisiner. Marion Willems\, diététicienne agréée est heureuse de vous les faire découvrir et déguster au cours de cette 2ème édition automnale qui leur est dédiée. \n\n\n\nPréparation et dégustation du repas sur place\, en échangeant sur la nutrition et la diététique. Une copie de chaque recette sera fournie\, ainsi que d’autres surprises. \n\n\n\nAU MENU \n\n\n\nVelouté de courge et lentilles corail au lait de coco \n\n\n\nTagliatelles à la crème de butternut et gorgonzola \n\n\n\nPumpkin cookies \n\n\n\nLien vers la page Facebook de Marion. \n\n\n\n\n\n\n\nDans la Marmite !
URL:https://co-guesthouse.be/evenement/cuisinez-les-legumes-dhiver-avec-marion/
LOCATION:Co-GuestHouse\, Boulevard Albert Elisabeth 11 - 7000 Mons
CATEGORIES:Plaisirs de la table,Santé et bien-être
ATTACH;FMTTYPE=image/jpeg:https://co-guesthouse.be/2022/wp-content/uploads/2023/02/Marion.jpg
END:VEVENT
END:VCALENDAR