BEGIN:VCALENDAR
VERSION:2.0
PRODID:-//Co-Guest House - ECPv6.15.20//NONSGML v1.0//EN
CALSCALE:GREGORIAN
METHOD:PUBLISH
X-WR-CALNAME:Co-Guest House
X-ORIGINAL-URL:https://co-guesthouse.be
X-WR-CALDESC:Évènements pour Co-Guest House
REFRESH-INTERVAL;VALUE=DURATION:PT1H
X-Robots-Tag:noindex
X-PUBLISHED-TTL:PT1H
BEGIN:VTIMEZONE
TZID:Europe/Brussels
BEGIN:DAYLIGHT
TZOFFSETFROM:+0100
TZOFFSETTO:+0200
TZNAME:CEST
DTSTART:20230326T010000
END:DAYLIGHT
BEGIN:STANDARD
TZOFFSETFROM:+0200
TZOFFSETTO:+0100
TZNAME:CET
DTSTART:20231029T010000
END:STANDARD
BEGIN:DAYLIGHT
TZOFFSETFROM:+0100
TZOFFSETTO:+0200
TZNAME:CEST
DTSTART:20240331T010000
END:DAYLIGHT
BEGIN:STANDARD
TZOFFSETFROM:+0200
TZOFFSETTO:+0100
TZNAME:CET
DTSTART:20241027T010000
END:STANDARD
BEGIN:DAYLIGHT
TZOFFSETFROM:+0100
TZOFFSETTO:+0200
TZNAME:CEST
DTSTART:20250330T010000
END:DAYLIGHT
BEGIN:STANDARD
TZOFFSETFROM:+0200
TZOFFSETTO:+0100
TZNAME:CET
DTSTART:20251026T010000
END:STANDARD
END:VTIMEZONE
BEGIN:VEVENT
DTSTART;TZID=Europe/Brussels:20240222T190000
DTEND;TZID=Europe/Brussels:20240222T220000
DTSTAMP:20260423T184836
CREATED:20231230T230834Z
LAST-MODIFIED:20240128T221504Z
UID:7827-1708628400-1708639200@co-guesthouse.be
SUMMARY:Atelier culinaire: intégrez les légumineuses dans votre alimentation avec Marion Willems
DESCRIPTION:Les haricots\, les pois\, les fèves et les lentilles sont les principales légumineuses utilisées dans notre cuisine occidentale mais elles sont encore bien trop peu consommées alors qu’elles regorgent de nutriments indispensables à notre santé. \n\n\n\nMarion Willems\, diététicienne agréée est heureuse de nous les faire découvrir et déguster au cours d’une soirée conférence-atelier et repas. \n\n\n\nConcept: découvrez comment les intégrer à vos menus de manière simple et savoureuse. \n\n\n\nPréparez et dégustez les plats sur place\, en échangeant sur la nutrition et la diététique. Une copie de chaque recette sera fournie\, ainsi que d’autres surprises. \n\n\n\nAU MENU \n\n\n\nEntrée: velouté de pois-cassés\, poireaux et ses croutons \n\n\n\nPlat: dhal de lentilles corail \n\n\n\nDessert: brownie aux haricots rouges \n\n\n\nLien vers la page Facebook de Marion. \n\n\n\n\n\n\n\nDans la Marmite !
URL:https://co-guesthouse.be/evenement/atelier-culinaire-cuisinez-les-legumineuses-avec-marion-willems/
LOCATION:Co-GuestHouse\, Boulevard Albert Elisabeth 11 - 7000 Mons
CATEGORIES:Plaisirs de la table,Santé et bien-être
ATTACH;FMTTYPE=image/jpeg:https://co-guesthouse.be/2022/wp-content/uploads/2023/02/Marion.jpg
END:VEVENT
END:VCALENDAR