BEGIN:VCALENDAR
VERSION:2.0
PRODID:-//Co-Guest House - ECPv6.15.20//NONSGML v1.0//EN
CALSCALE:GREGORIAN
METHOD:PUBLISH
X-ORIGINAL-URL:https://co-guesthouse.be
X-WR-CALDESC:Évènements pour Co-Guest House
REFRESH-INTERVAL;VALUE=DURATION:PT1H
X-Robots-Tag:noindex
X-PUBLISHED-TTL:PT1H
BEGIN:VTIMEZONE
TZID:Europe/Brussels
BEGIN:DAYLIGHT
TZOFFSETFROM:+0100
TZOFFSETTO:+0200
TZNAME:CEST
DTSTART:20230326T010000
END:DAYLIGHT
BEGIN:STANDARD
TZOFFSETFROM:+0200
TZOFFSETTO:+0100
TZNAME:CET
DTSTART:20231029T010000
END:STANDARD
BEGIN:DAYLIGHT
TZOFFSETFROM:+0100
TZOFFSETTO:+0200
TZNAME:CEST
DTSTART:20240331T010000
END:DAYLIGHT
BEGIN:STANDARD
TZOFFSETFROM:+0200
TZOFFSETTO:+0100
TZNAME:CET
DTSTART:20241027T010000
END:STANDARD
BEGIN:DAYLIGHT
TZOFFSETFROM:+0100
TZOFFSETTO:+0200
TZNAME:CEST
DTSTART:20250330T010000
END:DAYLIGHT
BEGIN:STANDARD
TZOFFSETFROM:+0200
TZOFFSETTO:+0100
TZNAME:CET
DTSTART:20251026T010000
END:STANDARD
END:VTIMEZONE
BEGIN:VEVENT
DTSTART;TZID=Europe/Brussels:20240325T190000
DTEND;TZID=Europe/Brussels:20240325T220000
DTSTAMP:20260423T165322
CREATED:20240213T160925Z
LAST-MODIFIED:20240221T160024Z
UID:7983-1711393200-1711404000@co-guesthouse.be
SUMMARY:Atelier découverte Thermomix - Cuisinez facile!
DESCRIPTION:Êtes-vous au courant de tout ce que peut faire un Thermomix? \n\n\n\nProfitez du passage de Melis\, conseillère Cuisin’Momix dans notre région et rejoignez son atelier découverte sur la thématique du Thermomix\, allié d’une cuisine de saveur\, rapide et facile!\n\n\n\nThermomix\, un assistant de cuisine génial à vos côtés ! \n\n\n\nPour qui ? La priorité est accordée aux personnes ne possédant pas encore de Thermomix mais tout un chacun est le bienvenu. \n\n\n\nQuoi ? \n\n\n\nNous cuisinerons de délicieuses recettes par 3 personnes autour d’un Thermomix. Nous commencerons avec les explications d’utilisation de la machine et seulement ensuite nous débuterons en cuisine. Au menu : entrée\, plat et peut être aussi un dessert ! \n\n\n\nCombien ? L’inscription s’élève à 25€\, comprenant non seulement la participation à l’atelier mais aussi la possibilité de repartir avec vos délicieuses créations.  \n\n\n\n\n\nPlaces limitées !Les inscriptions et demandes d’informations se font\, soit par message privé Facebook à Melis Conduto soit au 0498/75.80.49. \n\n\n\n\nLa marmite
URL:https://co-guesthouse.be/evenement/atelier-decouverte-thermomix-cuisine-asiatique/
CATEGORIES:Plaisirs de la table,Santé et bien-être
ATTACH;FMTTYPE=image/png:https://co-guesthouse.be/2022/wp-content/uploads/2024/02/Thermomix-1.png
END:VEVENT
END:VCALENDAR