BEGIN:VCALENDAR
VERSION:2.0
PRODID:-//Co-Guest House - ECPv6.15.20//NONSGML v1.0//EN
CALSCALE:GREGORIAN
METHOD:PUBLISH
X-ORIGINAL-URL:https://co-guesthouse.be
X-WR-CALDESC:Évènements pour Co-Guest House
REFRESH-INTERVAL;VALUE=DURATION:PT1H
X-Robots-Tag:noindex
X-PUBLISHED-TTL:PT1H
BEGIN:VTIMEZONE
TZID:Europe/Brussels
BEGIN:DAYLIGHT
TZOFFSETFROM:+0100
TZOFFSETTO:+0200
TZNAME:CEST
DTSTART:20230326T010000
END:DAYLIGHT
BEGIN:STANDARD
TZOFFSETFROM:+0200
TZOFFSETTO:+0100
TZNAME:CET
DTSTART:20231029T010000
END:STANDARD
BEGIN:DAYLIGHT
TZOFFSETFROM:+0100
TZOFFSETTO:+0200
TZNAME:CEST
DTSTART:20240331T010000
END:DAYLIGHT
BEGIN:STANDARD
TZOFFSETFROM:+0200
TZOFFSETTO:+0100
TZNAME:CET
DTSTART:20241027T010000
END:STANDARD
BEGIN:DAYLIGHT
TZOFFSETFROM:+0100
TZOFFSETTO:+0200
TZNAME:CEST
DTSTART:20250330T010000
END:DAYLIGHT
BEGIN:STANDARD
TZOFFSETFROM:+0200
TZOFFSETTO:+0100
TZNAME:CET
DTSTART:20251026T010000
END:STANDARD
END:VTIMEZONE
BEGIN:VEVENT
DTSTART;TZID=Europe/Brussels:20241116T130000
DTEND;TZID=Europe/Brussels:20241116T180000
DTSTAMP:20260423T023449
CREATED:20241101T103840Z
LAST-MODIFIED:20241101T103940Z
UID:8592-1731762000-1731780000@co-guesthouse.be
SUMMARY:1 JOUR\, 10 VINS: Dégustation et vente de vins bio et naturels portugais
DESCRIPTION:Approfondissez votre connaissance des vins portugais durant cette agréable après-midi.  \n\n\n\nLe Portugal n’est pas seulement célèbre pour ses plages\, son liège\, sa poésie et ses azulejos\, il est aussi l’un des trésors cachés de la viticulture européenne.\n\n\n\nAvec des régions viticoles historiques comme le Douro\, Alentejo ou encore le Vinho Verde\, il offre une diversité de cépages et de saveurs qui séduisent tous les palais. \n\n\n\nQue vous soyez amateur de rouges corsés\, de blancs frais ou de bulles raffinées\, les vins portugais sauront vous séduire. \n\n\n\nUne dégustation toute en finesse\n\n\n\n\n\n\n\n\n\n\n\n\n\nRafael De Queiros Teixeira d’AVOVIN  est heureux de vous convier à une dégustation au cours de laquelle il vous fera découvrir 10 vins\, dont 7 rouges\, 2 blancs et un mousseux\, accompagnés d’encas. \n\n\n\nUne magnifique opportunité de faire vos achats de fêtes de fin d’année.  \n\n\n\nRemise de 10% à partir de 6 bouteilles. \n\n\n\nA propos\n\n\n\nAVOVIN\, ce sont des vins sans maquillages\, avec un minimum d’intervention et un maximum d’expression du terroir.  \n\n\n\n« Nous proposons des vins authentiques issus de petites productions des vignobles portugais et français\, ayant comme trait commun le respect du raisin\, du terroir et de l’environnement. Notre slogan: Bio\, logique et dynamique. » \n\n\n\nConditions d’accès\n\n\n\nCet événement est gratuit. Toutefois la réservation est souhaitée par téléphone au 0495 57 70 17 ou par mail à info@avovin.be. \n\n\n\nInformations complémentaires sur la page facebook.
URL:https://co-guesthouse.be/evenement/1-jour-10-vins-degustation-et-vente-de-vins-bio-et-naturels-portugais-2/
CATEGORIES:Plaisirs de la table
ATTACH;FMTTYPE=image/png:https://co-guesthouse.be/2022/wp-content/uploads/2024/10/avovin3.png
END:VEVENT
BEGIN:VEVENT
DTSTART;TZID=Europe/Brussels:20241130T090000
DTEND;TZID=Europe/Brussels:20241130T123000
DTSTAMP:20260423T023449
CREATED:20241030T210726Z
LAST-MODIFIED:20241030T215447Z
UID:8561-1732957200-1732969800@co-guesthouse.be
SUMMARY:Atelier découverte Thermomix - Cuisinez facile "Repas de Noël"
DESCRIPTION:Êtes-vous au courant de tout ce que peut faire un Thermomix? Profitez du passage de Melis\, Conseillère et Teamleader Thermomix dans notre région et rejoignez son atelier découverte \n\n\n\nThermomix\, un assistant de cuisine génial à vos côtés !\n\n\n\n Melissa commencera avec les explications d’utilisation de la machine\, ses nombreux atouts et  ensuite c’est parti pour une mise en pratique! \n\n\n\nQuoi ? Vous cuisinerez un menu de Noël par 3 personnes maximum autour d’un Thermomix\, ce qui vous laissera l’occasion de le manipuler\, de le découvrir vous-même et surtout de vous amuser. \n\n\n\nAu menu : entrée\, plat et peut être aussi un dessert ! Vous repartirez avec votre repas. \n\n\n\nPour qui ? La priorité est accordée aux personnes ne possédant pas encore de Thermomix mais tout un chacun est le bienvenu. \n\n\n\n\n\n\n\n\n\n\n\n\n\nLe Thermomix\, votre allié d’une cuisine saveur\, rapide et facile!\n\n\n\nConditions pratiques\n\n\n\nPlaces limitées !Les inscriptions et demandes d’informations se font\, soit par message privé Facebook à Melis Conduto  au 0498 75 80 49 ou par e-mail à thermomelis@gmail.com. \n\n\n\nPAF (animation\, utilisation de la machine et ingrédients)\n\n\n\n\n\n\nLa marmite
URL:https://co-guesthouse.be/evenement/atelier-decouverte-thermomix-cuisinez-facile/
CATEGORIES:Plaisirs de la table,Santé et bien-être
ATTACH;FMTTYPE=image/png:https://co-guesthouse.be/2022/wp-content/uploads/2024/02/Thermomix-1.png
END:VEVENT
END:VCALENDAR