BEGIN:VCALENDAR
VERSION:2.0
PRODID:-//Co-Guest House - ECPv6.15.20//NONSGML v1.0//EN
CALSCALE:GREGORIAN
METHOD:PUBLISH
X-WR-CALNAME:Co-Guest House
X-ORIGINAL-URL:https://co-guesthouse.be
X-WR-CALDESC:Évènements pour Co-Guest House
REFRESH-INTERVAL;VALUE=DURATION:PT1H
X-Robots-Tag:noindex
X-PUBLISHED-TTL:PT1H
BEGIN:VTIMEZONE
TZID:Europe/Brussels
BEGIN:DAYLIGHT
TZOFFSETFROM:+0100
TZOFFSETTO:+0200
TZNAME:CEST
DTSTART:20240331T010000
END:DAYLIGHT
BEGIN:STANDARD
TZOFFSETFROM:+0200
TZOFFSETTO:+0100
TZNAME:CET
DTSTART:20241027T010000
END:STANDARD
BEGIN:DAYLIGHT
TZOFFSETFROM:+0100
TZOFFSETTO:+0200
TZNAME:CEST
DTSTART:20250330T010000
END:DAYLIGHT
BEGIN:STANDARD
TZOFFSETFROM:+0200
TZOFFSETTO:+0100
TZNAME:CET
DTSTART:20251026T010000
END:STANDARD
BEGIN:DAYLIGHT
TZOFFSETFROM:+0100
TZOFFSETTO:+0200
TZNAME:CEST
DTSTART:20260329T010000
END:DAYLIGHT
BEGIN:STANDARD
TZOFFSETFROM:+0200
TZOFFSETTO:+0100
TZNAME:CET
DTSTART:20261025T010000
END:STANDARD
END:VTIMEZONE
BEGIN:VEVENT
DTSTART;TZID=Europe/Brussels:20251009T190000
DTEND;TZID=Europe/Brussels:20251009T223000
DTSTAMP:20260420T004506
CREATED:20250302T145634Z
LAST-MODIFIED:20250302T145635Z
UID:8989-1760036400-1760049000@co-guesthouse.be
SUMMARY:Atelier culinaire avec Marion Willems: les courges
DESCRIPTION:L’automne fait la part belle aux couleurs\, dans votre assiette aussi.\n\n\n\nMarion Willems\, diététicienne-nutrionniste vous propose cette fois d’allier tous les types de courges pour des repas sains et malins. Allez hop\, passez du jardin à la cuisine et remontez vos manches vous allez déguster… \n\n\n\nDans la Marmite !\n\n\n\nLe concept des ateliers de Marion ? Vous préparez\, découvrez les recettes et dégustez un délicieux repas au cours d’une belle soirée.\n\n\n\nMarion Willems\, diététicienne agréée\, est heureuse de vous initier plusieurs fois par an à une cuisine santé et saveurs au cours d’une soirée conférence-atelier et repas des plus conviviales. \n\n\n\nChaque atelier couvre une nouvelle thématique et vous emmène dans un univers dont elle est la seule à connaître les secrets. \n\n\n\nUne formule dynamique où vous passez des fourneaux à la table\n\n\n\nPréparez et dégustez les plats sur place\, en échangeant sur la nutrition et la diététique tout en combinant les ingrédients pour passer un excellent moment.  \n\n\n\nUne copie de chaque recette est fournie.  \n\n\n\nPour ne rien louper : \n\n\n\nVous souhaitez être tenu(e) informé(e) des prochains ateliers ? Abonnez-vous à sa page Facebook et filez sur son Instagram pour découvrir des tas d’autres recettes !
URL:https://co-guesthouse.be/evenement/atelier-culinaire-avec-marion-willems-les-courges/
LOCATION:Co-GuestHouse\, Boulevard Albert Elisabeth 11 - 7000 Mons
CATEGORIES:Plaisirs de la table,Santé et bien-être
ATTACH;FMTTYPE=image/jpeg:https://co-guesthouse.be/2022/wp-content/uploads/2025/02/IMG_3433.jpg
END:VEVENT
END:VCALENDAR