BEGIN:VCALENDAR
VERSION:2.0
PRODID:-//Co-Guest House - ECPv6.15.20//NONSGML v1.0//EN
CALSCALE:GREGORIAN
METHOD:PUBLISH
X-WR-CALNAME:Co-Guest House
X-ORIGINAL-URL:https://co-guesthouse.be
X-WR-CALDESC:Évènements pour Co-Guest House
REFRESH-INTERVAL;VALUE=DURATION:PT1H
X-Robots-Tag:noindex
X-PUBLISHED-TTL:PT1H
BEGIN:VTIMEZONE
TZID:Europe/Brussels
BEGIN:DAYLIGHT
TZOFFSETFROM:+0100
TZOFFSETTO:+0200
TZNAME:CEST
DTSTART:20240331T010000
END:DAYLIGHT
BEGIN:STANDARD
TZOFFSETFROM:+0200
TZOFFSETTO:+0100
TZNAME:CET
DTSTART:20241027T010000
END:STANDARD
BEGIN:DAYLIGHT
TZOFFSETFROM:+0100
TZOFFSETTO:+0200
TZNAME:CEST
DTSTART:20250330T010000
END:DAYLIGHT
BEGIN:STANDARD
TZOFFSETFROM:+0200
TZOFFSETTO:+0100
TZNAME:CET
DTSTART:20251026T010000
END:STANDARD
BEGIN:DAYLIGHT
TZOFFSETFROM:+0100
TZOFFSETTO:+0200
TZNAME:CEST
DTSTART:20260329T010000
END:DAYLIGHT
BEGIN:STANDARD
TZOFFSETFROM:+0200
TZOFFSETTO:+0100
TZNAME:CET
DTSTART:20261025T010000
END:STANDARD
END:VTIMEZONE
BEGIN:VEVENT
DTSTART;TZID=Europe/Brussels:20251208T090000
DTEND;TZID=Europe/Brussels:20251208T170000
DTSTAMP:20260419T210609
CREATED:20251021T094441Z
LAST-MODIFIED:20251021T094441Z
UID:9549-1765184400-1765213200@co-guesthouse.be
SUMMARY:Cours "Introduction aux vins" WSET Niveau 1
DESCRIPTION:Approfondissez votre connaissance des vins en une journée \n\n\n\nDans une ambiance chaleureuse\, lancez-vous dans ce 1er niveau WSET d' »Introduction aux vins » avec Gaëtan Pluquet.\n\n\n\nLe diplôme s’adresse aux personnes ne connaissant que peu ou pas du tout le vin. Il est conçu comme une introduction solide mais simple. \n\n\n\n\n\n\n\nThèmes abordés\n\n\n\n\nLes principaux types et styles de vin\n\n\n\nLes cépages les plus courants et leurs caractéristiques\n\n\n\nComment conserver et servir le vin\n\n\n\nLes grands principes des accords mets et vins\n\n\n\nInitiation à la dégustation: comment décrire un vin selon l’Approche systématique de la dégustation de vin® du WSET (niveau 1)\n\n\n\n\nÉvaluation\n\n\n\nLe certificat impose un minimum de 6 heures de cours\, en classe\, avec Paths To Wines\, centre agréé WSET. Il se termine toujours par un examen qui consiste en une épreuve à livre fermé composée de 30 questions à choix multiple (en 45 minutes). Cette formation est accréditée par l’organisme de réglementation britannique Ofqual. \n\n\n\nConditions d’accès\n\n\n\nCette qualification n’est soumise à aucune condition d’accès particulière. Vous devez avoir l’âge légal pour la consommation de boissons alcoolisées. \n\n\n\n\n\nInformations complémentaires sur le site web de pathstowines ou en contactant Gaëtan Pluquet au 0476/45.23.59 ou par e-mail à gaetan.pluquet@gmail.com. \n\n\n\nInscription via ce lien.
URL:https://co-guesthouse.be/evenement/cours-introduction-aux-vins-wset-niveau-1-4/
LOCATION:Co-GuestHouse\, Boulevard Albert Elisabeth 11 - 7000 Mons
CATEGORIES:Formations,Plaisirs de la table
ATTACH;FMTTYPE=image/jpeg:https://co-guesthouse.be/2022/wp-content/uploads/2023/02/WSET-2.jpg
END:VEVENT
BEGIN:VEVENT
DTSTART;TZID=Europe/Brussels:20251211T190000
DTEND;TZID=Europe/Brussels:20251211T223000
DTSTAMP:20260419T210609
CREATED:20250201T162524Z
LAST-MODIFIED:20250302T145202Z
UID:8750-1765479600-1765492200@co-guesthouse.be
SUMMARY:Atelier culinaire: Repas de Noël animé par Marion Willems
DESCRIPTION:Les fêtes approchent et vous n’avez pas d’idée de repas ?\n\n\n\nVenez cuisiner un menu complet de Noël gourmand et savoureux qui vous inspirera pour réaliser le vôtre dans quelques semaines. Vous apprendrez de nouvelles façons de cuisiner pour les fêtes\, préparerez et dégusterez les délicieux plats et repartirez avec les recettes. \n\n\n\nLe concept des ateliers de Marion? vous préparez\, découvrez les recettes et dégustez un délicieux repas au cours d’une belle soirée.\n\n\n\nMarion Willems\, diététicienne agréée\, est heureuse de vous initier plusieurs fois par an à une cuisine santé et saveurs au cours d’une soirée conférence-atelier et repas des plus conviviales. \n\n\n\nChaque atelier couvre une nouvelle thématique et vous emmène dans un univers dont elle est la seule à connaître les secrets saveurs et santé. \n\n\n\nUne formule dynamique où vous passez des fourneaux à la table\n\n\n\nPréparez et dégustez les plats sur place\, en échangeant (un peu\, beaucoup\, passionnément) sur la nutrition et la diététique et tout en combinant les ingrédients pour passer un excellent moment ensemble. \n\n\n\nUne copie de chaque recette est fournie\, ainsi que d’autres surprises. \n\n\n\nAU MENU de ce jeudi 11 décembre\n\n\n\nApéro: duo de verrinesEntrée: lentilles parmentier au céleri\, champignons & châtaignesPlat: ravioles farcies à la ricotta & courge et pesto de noixDessert: cheesecake pommes & spéculos \n\n\n\nVous souhaitez être tenu(e) informé(e) des prochains ateliers? abonnez-vous à la page Facebook de Marion et si vous voulez être les premier(e)s à découvrir ses recettes\, filez sur son Instagram.
URL:https://co-guesthouse.be/evenement/atelier-culinaire-repas-de-noel-anime-par-marion-willems-2/
CATEGORIES:Plaisirs de la table,Santé et bien-être
ATTACH;FMTTYPE=image/jpeg:https://co-guesthouse.be/2022/wp-content/uploads/2025/02/photo-de-groupe.jpg
END:VEVENT
END:VCALENDAR