BEGIN:VCALENDAR
VERSION:2.0
PRODID:-//Co-Guest House - ECPv6.15.20//NONSGML v1.0//EN
CALSCALE:GREGORIAN
METHOD:PUBLISH
X-WR-CALNAME:Co-Guest House
X-ORIGINAL-URL:https://co-guesthouse.be
X-WR-CALDESC:Évènements pour Co-Guest House
REFRESH-INTERVAL;VALUE=DURATION:PT1H
X-Robots-Tag:noindex
X-PUBLISHED-TTL:PT1H
BEGIN:VTIMEZONE
TZID:Europe/Brussels
BEGIN:DAYLIGHT
TZOFFSETFROM:+0100
TZOFFSETTO:+0200
TZNAME:CEST
DTSTART:20250330T010000
END:DAYLIGHT
BEGIN:STANDARD
TZOFFSETFROM:+0200
TZOFFSETTO:+0100
TZNAME:CET
DTSTART:20251026T010000
END:STANDARD
BEGIN:DAYLIGHT
TZOFFSETFROM:+0100
TZOFFSETTO:+0200
TZNAME:CEST
DTSTART:20260329T010000
END:DAYLIGHT
BEGIN:STANDARD
TZOFFSETFROM:+0200
TZOFFSETTO:+0100
TZNAME:CET
DTSTART:20261025T010000
END:STANDARD
BEGIN:DAYLIGHT
TZOFFSETFROM:+0100
TZOFFSETTO:+0200
TZNAME:CEST
DTSTART:20270328T010000
END:DAYLIGHT
BEGIN:STANDARD
TZOFFSETFROM:+0200
TZOFFSETTO:+0100
TZNAME:CET
DTSTART:20271031T010000
END:STANDARD
END:VTIMEZONE
BEGIN:VEVENT
DTSTART;TZID=Europe/Brussels:20260212T190000
DTEND;TZID=Europe/Brussels:20260212T220000
DTSTAMP:20260419T173010
CREATED:20260110T193154Z
LAST-MODIFIED:20260110T193155Z
UID:9849-1770922800-1770933600@co-guesthouse.be
SUMMARY:Atelier culinaire de Marion Willems: "les collations saines et savoureuses"
DESCRIPTION:C’est le moment de remplacer les goûters remplis de sucre par des collations qui vous donnent de l’énergie au moment où vous en avez le plus besoin.\n\n\n\nVous avez envie d’en finir avec les grignotages sucrés et les barres industrielles qui vous coûtent un point ? \n\n\n\nRejoignez Marion Willems pour un atelier riche en bons filons et en collations maison malignes: simples\, rapides et pleines de gourmandise \n\n\n\nAu programme  \n\n\n\n🍎 Vous apprendrez les bases d’une collation équilibrée \n\n\n\n🥜 Vous réaliserez plusieurs recettes nutritives et gourmandes \n\n\n\n💡 Vous composerez vos propres en-cas selon vos besoins nutritifs. \n\n\n\nVenez découvrir des recettes qui éveilleront vos papilles et vous inspireront pour des en-cas légers et remplis de saveurs. \n\n\n\nLe concept des ateliers de Marion ? \n\n\n\nVous bénéficiez de conseils diététiques. Vous découvrez de nouvelles recettes\, préparez et dégustez un délicieux repas au cours d’une belle soirée. \n\n\n\nMarion Willems\, diététicienne agréée\, est heureuse de vous initier plusieurs fois par an à une cuisine santé et saveurs au cours d’une soirée conférence-atelier et repas des plus conviviales. \n\n\n\nChaque atelier couvre une nouvelle thématique et vous emmène dans un univers dont elle est la seule à connaître les secrets. \n\n\n\nUne formule dynamique où vous passez des fourneaux à la table \n\n\n\nPréparez et dégustez les plats sur place\, en échangeant (un peu\, beaucoup\, passionnément) sur la nutrition et la diététique. \n\n\n\nUne copie de chaque recette est fournie sur place. \n\n\n\nDans la Marmite !\n\n\n\nInfos pratiques\n\n\n\nRéservation directement en ligne (places limitées à 12 personnes) \n\n\n\nPaiement à la réservation\, non remboursable en cas d’annulation \n\n\n\n\n\nPour ne rien louper : \n\n\n\nVous souhaitez être tenu(e) informé(e) des prochains ateliers? abonnez-vous à la page Facebook de Marion et si vous voulez découvrir d’autres recettes\, filez sur son Instagram.
URL:https://co-guesthouse.be/evenement/atelier-culinaire-de-marion-willems-les-collations-saines-et-savoureuses/
LOCATION:Co-GuestHouse\, Boulevard Albert Elisabeth 11 - 7000 Mons
CATEGORIES:Plaisirs de la table,Santé et bien-être
ATTACH;FMTTYPE=image/jpeg:https://co-guesthouse.be/2022/wp-content/uploads/2025/02/IMG_3433.jpg
END:VEVENT
END:VCALENDAR